BEGIN:VCALENDAR
VERSION:2.0
PRODID:-//IJs- en Skeelerclub Nijeveen - ECPv6.15.20//NONSGML v1.0//EN
CALSCALE:GREGORIAN
METHOD:PUBLISH
X-WR-CALNAME:IJs- en Skeelerclub Nijeveen
X-ORIGINAL-URL:https://www.skeelerbaannijeveen.nl
X-WR-CALDESC:Evenementen voor IJs- en Skeelerclub Nijeveen
REFRESH-INTERVAL;VALUE=DURATION:PT1H
X-Robots-Tag:noindex
X-PUBLISHED-TTL:PT1H
BEGIN:VTIMEZONE
TZID:Europe/Amsterdam
BEGIN:DAYLIGHT
TZOFFSETFROM:+0100
TZOFFSETTO:+0200
TZNAME:CEST
DTSTART:20230326T010000
END:DAYLIGHT
BEGIN:STANDARD
TZOFFSETFROM:+0200
TZOFFSETTO:+0100
TZNAME:CET
DTSTART:20231029T010000
END:STANDARD
BEGIN:DAYLIGHT
TZOFFSETFROM:+0100
TZOFFSETTO:+0200
TZNAME:CEST
DTSTART:20240331T010000
END:DAYLIGHT
BEGIN:STANDARD
TZOFFSETFROM:+0200
TZOFFSETTO:+0100
TZNAME:CET
DTSTART:20241027T010000
END:STANDARD
BEGIN:DAYLIGHT
TZOFFSETFROM:+0100
TZOFFSETTO:+0200
TZNAME:CEST
DTSTART:20250330T010000
END:DAYLIGHT
BEGIN:STANDARD
TZOFFSETFROM:+0200
TZOFFSETTO:+0100
TZNAME:CET
DTSTART:20251026T010000
END:STANDARD
END:VTIMEZONE
BEGIN:VEVENT
DTSTART;TZID=Europe/Amsterdam:20240910T180000
DTEND;TZID=Europe/Amsterdam:20240910T200000
DTSTAMP:20260419T184139
CREATED:20240620T194751Z
LAST-MODIFIED:20250401T200731Z
UID:6649-1725991200-1725998400@www.skeelerbaannijeveen.nl
SUMMARY:Flying lap avond
DESCRIPTION:Tijdens deze flying lap avond kan iedereen die lid is van de club een tijd neerzetten of je tijd verbeteren door 1 ronde zo hard te gaan als je kan. \nHet is tijdens de je normale trainingstijden.
URL:https://www.skeelerbaannijeveen.nl/event/flying-lap-avond-2/
LOCATION:IJs- en Skeelerclub Nijeveen\, Schuurmansweg 17\, Nijeveen\, 7948 NM\, Nederland
CATEGORIES:Inline-skaten
END:VEVENT
END:VCALENDAR