BEGIN:VCALENDAR
VERSION:2.0
PRODID:-//IJs- en Skeelerclub Nijeveen - ECPv6.15.20//NONSGML v1.0//EN
CALSCALE:GREGORIAN
METHOD:PUBLISH
X-WR-CALNAME:IJs- en Skeelerclub Nijeveen
X-ORIGINAL-URL:https://www.skeelerbaannijeveen.nl
X-WR-CALDESC:Evenementen voor IJs- en Skeelerclub Nijeveen
REFRESH-INTERVAL;VALUE=DURATION:PT1H
X-Robots-Tag:noindex
X-PUBLISHED-TTL:PT1H
BEGIN:VTIMEZONE
TZID:Europe/Amsterdam
BEGIN:DAYLIGHT
TZOFFSETFROM:+0100
TZOFFSETTO:+0200
TZNAME:CEST
DTSTART:20230326T010000
END:DAYLIGHT
BEGIN:STANDARD
TZOFFSETFROM:+0200
TZOFFSETTO:+0100
TZNAME:CET
DTSTART:20231029T010000
END:STANDARD
BEGIN:DAYLIGHT
TZOFFSETFROM:+0100
TZOFFSETTO:+0200
TZNAME:CEST
DTSTART:20240331T010000
END:DAYLIGHT
BEGIN:STANDARD
TZOFFSETFROM:+0200
TZOFFSETTO:+0100
TZNAME:CET
DTSTART:20241027T010000
END:STANDARD
BEGIN:DAYLIGHT
TZOFFSETFROM:+0100
TZOFFSETTO:+0200
TZNAME:CEST
DTSTART:20250330T010000
END:DAYLIGHT
BEGIN:STANDARD
TZOFFSETFROM:+0200
TZOFFSETTO:+0100
TZNAME:CET
DTSTART:20251026T010000
END:STANDARD
END:VTIMEZONE
BEGIN:VEVENT
DTSTART;TZID=Europe/Amsterdam:20240921T090000
DTEND;TZID=Europe/Amsterdam:20240921T160000
DTSTAMP:20260419T185158
CREATED:20240814T192949Z
LAST-MODIFIED:20250401T200723Z
UID:6778-1726909200-1726934400@www.skeelerbaannijeveen.nl
SUMMARY:Stouwdam wedstrijd (Finale)
DESCRIPTION:De stouwdam competitie is een leuke skeelercompetitie die dit jaar bestaat uit zeven wedstrijden. De zevende wedstrijd zal verreden worden op 21 september 2024 in Nijeveen. \nDe Noordoost bokaal is nieuw dit jaar! De competitie met een apart klassement bestaat uit vier wedstrijden\, waarvan er twee afkomstig zijn uit de Stouwdam competitie (Staphorst en Hattem) en twee uit de Van Lingen competitie (Wolvega en Sneek). Om in aanmerking te komen voor de prijzen dienen er minimaal drie wedstrijden gereden te worden. De Finale in Sneek is hierbij verplicht.  Meer informatie over de Noordoost bokaal is hier te vinden.
URL:https://www.skeelerbaannijeveen.nl/event/stouwdam-wedstrijd-finale/
LOCATION:IJs- en Skeelerclub Nijeveen\, Schuurmansweg 17\, Nijeveen\, 7948 NM\, Nederland
CATEGORIES:Inline-skaten
END:VEVENT
END:VCALENDAR